BEGIN:VCALENDAR
METHOD:PUBLISH
PRODID:-//Weblication CMS
VERSION:2.0
BEGIN:VEVENT
SUMMARY:Uro-gynécologie (E/F) Dissection sur cadavres  et  travaux pratiques sur modèles  (Bilingue F-E)
DTSTART:20260912T080000
DTEND:20260912T171500
DESCRIPTION:von der SGGG anerkannter Blockkurs, Vergabe von 7 Credits / cours en bloc reconnu par le SSGO, attribution de 7 crédits
LOCATION:Bern
UID:https://gesea-swiss.ch/gynaekologische-endoskopie-d/veranstaltungen/termine/blockkurse-age-swissendos/20260905_Urogen.php?uid=6729819590917bd517040cb51745573c
URL:https://gesea-swiss.ch/gynaekologische-endoskopie-d/veranstaltungen/termine/blockkurse-age-swissendos/20260905_Urogen.php
END:VEVENT
END:VCALENDAR