BEGIN:VCALENDAR
METHOD:PUBLISH
PRODID:-//Weblication CMS
VERSION:2.0
BEGIN:VEVENT
SUMMARY:Myome
DTSTART:20261024T080000
DTEND:20261024T171500
DESCRIPTION:von der SGGG anerkannter Blockkurs, Vergabe von 7 Credits
LOCATION:Bern
UID:https://gesea-swiss.ch/gynaekologische-endoskopie-d/veranstaltungen/termine/blockkurse-age-swissendos/20261024_Myome.php?uid=019b52cca6c676b391c7bf58b983a6f4
URL:https://gesea-swiss.ch/gynaekologische-endoskopie-d/veranstaltungen/termine/blockkurse-age-swissendos/20261024_Myome.php
END:VEVENT
END:VCALENDAR