BEGIN:VCALENDAR
METHOD:PUBLISH
PRODID:-//Weblication CMS
VERSION:2.0
BEGIN:VEVENT
SUMMARY:GESEA cours et examen, level 2, mai 26
DTSTART:20260507T083000
DTEND:20260509T170000
DESCRIPTION:reconnu par le SSGO, attribution de 16 crédits
LOCATION:Bern
UID:https://gesea-swiss.ch/gynaekologische-endoskopie-d/veranstaltungen/termine/gesea-kurse/260507_gesea_level-2.php?uid=6729819590917bd517040cb51745573c
URL:https://gesea-swiss.ch/gynaekologische-endoskopie-d/veranstaltungen/termine/gesea-kurse/260507_gesea_level-2.php
END:VEVENT
END:VCALENDAR