BEGIN:VCALENDAR
METHOD:PUBLISH
PRODID:-//Weblication CMS
VERSION:2.0
BEGIN:VEVENT
SUMMARY:GESEA Kurs und Prüfung, Level 1, Juli 26
DTSTART:20260702T083000
DTEND:20260704T170000
DESCRIPTION:von SGGG anerkannter Kurs, Vergabe von 16 Credits
LOCATION:Bern
UID:https://gesea-swiss.ch/gynaekologische-endoskopie-d/veranstaltungen/termine/gesea-kurse/260702_gesea_level-1.php?uid=f828d947eec14e4b8658c8e255327b98
URL:https://gesea-swiss.ch/gynaekologische-endoskopie-d/veranstaltungen/termine/gesea-kurse/260702_gesea_level-1.php
END:VEVENT
END:VCALENDAR