BEGIN:VCALENDAR
METHOD:PUBLISH
PRODID:-//Weblication CMS
VERSION:2.0
BEGIN:VEVENT
SUMMARY:GESEA Kurs und Prüfung, Level 1, Aug. 26
DTSTART:20260827T083000
DTEND:20260829T170000
DESCRIPTION:von SGGG anerkannter Kurs, Vergabe von 16 Credits
LOCATION:Bern
UID:https://gesea-swiss.ch/gynaekologische-endoskopie-d/veranstaltungen/termine/gesea-kurse/260827_gesea_level-1.php?uid=2b2b01664622dd90a701457798fa83d1
URL:https://gesea-swiss.ch/gynaekologische-endoskopie-d/veranstaltungen/termine/gesea-kurse/260827_gesea_level-1.php
END:VEVENT
END:VCALENDAR