BEGIN:VCALENDAR
METHOD:PUBLISH
PRODID:-//Weblication CMS
VERSION:2.0
BEGIN:VEVENT
SUMMARY:GESEA Kurs und Prüfung, Level 2, Sept. 26
DTSTART:20260924T083000
DTEND:20260926T170000
DESCRIPTION:von SGGG anerkannter Kurs, Vergabe von 16 Credits
LOCATION:Bern
UID:https://gesea-swiss.ch/gynaekologische-endoskopie-d/veranstaltungen/termine/gesea-kurse/260924_gesea_level-2.php?uid=89934f0582450798cc0be4ee0e9a3c9e
URL:https://gesea-swiss.ch/gynaekologische-endoskopie-d/veranstaltungen/termine/gesea-kurse/260924_gesea_level-2.php
END:VEVENT
END:VCALENDAR