BEGIN:VCALENDAR
METHOD:PUBLISH
PRODID:-//Weblication CMS
VERSION:2.0
BEGIN:VEVENT
SUMMARY:GESEA Kurs und Prüfung, Level 2, Nov. 26
DTSTART:20261126T083000
DTEND:20261128T170000
DESCRIPTION:von SGGG anerkannter Kurs, Vergabe von 16 Credits
LOCATION:Bern
UID:https://gesea-swiss.ch/gynaekologische-endoskopie-d/veranstaltungen/termine/gesea-kurse/261126_gesea_level-2.php?uid=c615a0a6dea714882c394d68c6d30ce1
URL:https://gesea-swiss.ch/gynaekologische-endoskopie-d/veranstaltungen/termine/gesea-kurse/261126_gesea_level-2.php
END:VEVENT
END:VCALENDAR