BEGIN:VCALENDAR
METHOD:PUBLISH
PRODID:-//Weblication CMS
VERSION:2.0
BEGIN:VEVENT
SUMMARY:GESEA cours et examen, level 1, déc. 26
DTSTART:20261203T083000
DTEND:20261205T170000
DESCRIPTION:reconnu par le SSGO, attribution de 16 crédits
LOCATION:Bern
UID:https://gesea-swiss.ch/gynaekologische-endoskopie-d/veranstaltungen/termine/gesea-kurse/261203_gesea_level-1.php?uid=73d8251ee6a5e53ac5e510cca7c5d83b
URL:https://gesea-swiss.ch/gynaekologische-endoskopie-d/veranstaltungen/termine/gesea-kurse/261203_gesea_level-1.php
END:VEVENT
END:VCALENDAR